Workbook
Name Aufstellwinkel: #REF!
Name Aufstellwinkel_Beta__Grad: #REF!
Name B: #REF!
Name Breitengrad: #REF!
Name Cfour: #REF!
Name Cmo: #REF!
Name coeff: #REF!
Name Cst: #REF!
Name Dachneigung_Gamma__Grad: #REF!
Name dasf: #REF!
Name dfgtdrfet: #REF!
Name euro: #REF!
Name fgbn: #REF!
Name fhgnj: #REF!
Name Grundlinie_a__m: #REF!
Name linia_WN: #REF!
Name Mindestabstand_c__m: #REF!
Name mo: #REF!
Name Modulhöhe__m: #REF!
Name moe: #REF!
Name p: #REF!
Name Print_Titles_MI: #REF!
Name RAZEM__pozostałe: #REF!
Name Rehenaznahl: #REF!
Name Reihenanzahl: #REF!
Name Reihenlänge__m: #REF!
Name Reihenteilung_d__m: #REF!
Name Reihenteilung_d_m: #REF!
Name Senkrechte_Höhe_b__m: #REF!
Name Tytuł_kolumny_1: #REF!
Name Verschattungswinkel_Alpha__Grad: #REF!

Sheet I. BESS SUPPLY
B1: CHAŁUPKI BESS | C1: NAZWA FIRMY/COMPANY: | F1: Załącznik F01 -Pomocniczy Przedmiar Zakresu Prac (Bill of Quantity)
B2: BESS - dostawa i uruchomienie | F2: Ogłoszenie nr - 2026- 125392-284766
A5: No. | B5: Zakres prac | C5: Opis zakresu prac | D5: Scope of works | E5: Description of scope of works | F5: Unit / Jednostka | G5: Quantity / Ilość | H5: Unit Net price / Cena jednostkowa netto | I5: Net value / Wartość netto [price from I6 put into Offer Form] [cenę z I6 należy przenieść do Formularza Oferty] | J5: manufacture/subcontractor producent/podwykonawca
A6: I. | B6: Dostawa i uruchomienie urządzeń BESS i PCS i MVT | D6: Delivery & start-up of BESS & PCS & MVT equipment | I6: =I7+I22 -> 0 | J6: <= this value put into Offer Form [point 2]/ wartość tą umieszcza się w Formularzu Oferty [punkt 2]
A7: 1. | B7: Dostawa i uruchomienie urządzeń BESS i PCS i MVT w tym: | D7: Delivery & start-up of BESS & PCS & MVT equipment, including: | I7: =SUBTOTAL(109,I8:I21) -> 0
A8: 1.1 | B8: Kontenery z bateriami (zawierające ogniwa, BMS, system zarządzania termicznego) | D8: Battery Containers (including cells, BMS, and Thermal mgmt. system) | F8: set | I8: =ROUND(G8*H8,2) -> 0
A9: 1.2 | B9: PCS / Falowniki | C9: Falowniki (gdy nie zabudowane w kontenerach z bateriami bądź w stacjach transformatorowych) | D9: PCS / Inverters | E9: PCS / Inverters (where not integrated into battery containers or transformer substations) | F9: pcs. | I9: =ROUND(G9*H9,2) -> 0
A10: 1.3 | B10: Pakiet redukcji hałasu (Low Noise Version) dla urządzeń BESS zgodnie z wymaganiami Specyfikacji Technicznej | C10: Pakiet redukcji hałasu / Wersja niskoszumowa (Low Noise Version) dla urządzeń BESS, w tym PCS oraz innych źródeł emisji hałasu, obejmujący wszelkie dodatkowe urządzenia, komponenty i rozwiązania techniczne niezbędne do spełnienia wymagań akustycznych określonych w Specyfikacji Technicznej. | D10: Noise Reduction Kit (Low Noise Version) for BESS equipment in accordance with the requirements of the Technical Specification | E10: Noise Reduction Kit / Low Noise Version for BESS equipment, including PCS and other noise-emitting equipment, comprising all additional equipment, components and technical solutions required to meet the acoustic requirements specified in the Technical Specification. | F10: set | I10: =ROUND(G10*H10,2) -> 0
A11: 1.4 | B11: Sn/nn stacje transformatorowe | D11: MV/LV Transformer(s) | F11: pcs. | I11: =ROUND(G11*H11,2) -> 0
A12: 1.5 | B12: Rozdzielnie Sn z zabezpieczeniami | D12: MV Switchgear + Protection | F12: set | I12: =ROUND(G12*H12,2) -> 0
A13: 1.6 | B13: Rozdzielnie nn z zabezpieczeniami | D13: LV Switchgear + Protection | F13: set | I13: =ROUND(G13*H13,2) -> 0
A14: 1.7 | B14: Funkcja PCS – Zdolność do pracy w trybie Grid Forming (regulacja napięcia i częstotliwości) oraz wsparcie realizacji funkcji Black Start | C14: Funkcja Black Start jest realizowana na poziomie całej instalacji BESS i zależy od rozwiązań BoS, systemu zasilania pomocniczego oraz logiki sterowania obiektu. Nie stanowi ona samodzielnej funkcjonalności PCS. | D14: PCS Function – Grid Forming Capability and Black Start Support (Voltage and Frequency Control) | E14: Black Start capability is dependent on the overall BESS facility design, including BoS systems, auxiliary power supply and plant control architecture, and shall not be considered a standalone PCS function. | F14: pcs. | I14: =ROUND(G14*H14,2) -> 0
A15: 1.8 | B15: System przeciwpożarowy i system gaszenia (FSS) | D15: Fire Detection and Suppression Systems (FSS) | F15: set | I15: =ROUND(G15*H15,2) -> 0
A16: 1.9 | B16: System zabezpieczenia - czujniki otwarcia drzwi | D16: Containers' security system - access door sensors | F16: set | I16: =ROUND(G16*H16,2) -> 0 | M16: `
A17: 1.10 | B17: Części zamienne przewidziane na okres 5 lat | D17: Spare parts planned for 5 years | F17: set | I17: =ROUND(G17*H17,2) -> 0
A18: 1.11 | B18: Dostawa / Transport urządzeń | C18: DDP | D18: Delivery / Transport of the Equipment | E18: DDP | F18: set | I18: =ROUND(G18*H18,2) -> 0
A19: 1.12 | B19: FAT (Fabryczne Próby Odbiorowe) | D19: FAT (Factory Acceptence Test) | F19: set | I19: =ROUND(G19*H19,2) -> 0
A20: 1.13 | B20: SAT (Próby Pomontażowe Odbiorowe) | D20: SAT (Site Acceptence Test) | F20: set | I20: =ROUND(G20*H20,2) -> 0
A21: 1.14 | B21: Szkolenie Kupującego lub wyznaczonego Wykonawcy O&M w zakresie regularnej i naprawczej konserwacji (proste naprawy realizujące podstawowe działania troubleshootingowe) | D21: Training of the Purchaser or the designated O&M Contractor in preventive and corrective maintenance, including minor repairs and basic troubleshooting activities. | F21: set | I21: =ROUND(G21*H21,2) -> 0
A22: 2. | B22: Gwarancje wydajności, gwarancje na urządzenia | D22: Guaranties & Warranties | I22: =SUBTOTAL(109,I23:I25) -> 0
A23: 2.1. | B23: Gwarancja wydajności - Gwarantowana Dostępność Energii (cena ryczałtowa za 5 lat) | D23: Performance Guaranties - Guaranteed Energy Capacity (lump sum for 5 yeras) | F23: set | I23: =ROUND(G23*H23,2) -> 0
A24: 2.2. | B24: Gwarancja wydajności - Gwarantowana Sprawność Cyklu Pracy RTE (cena ryczałtowa za 5 lat) | D24: Performance Guaranties - Guaranteed Round Trip Efficiency RTE (lump sum for 5 years) | F24: set | I24: =ROUND(G24*H24,2) -> 0
A25: 2.3. | B25: Gwarancja zgodnie z § 8 Umowy na dostawę BESS (cena ryczałtowa za 5 lat) | D25: Guarantee in accordance with § 8 BESS Supply Agreement (lump sum for 5 yeras) | F25: set | I25: =ROUND(G25*H25,2) -> 0

Sheet II. BESS LTSA
A1: ='I. BESS SUPPLY'!B1 -> CHAŁUPKI BESS | C1: NAZWA FIRMY/COMPANY: | F1: Załącznik F01 -Pomocniczy Przedmiar Zakresu Prac (Bill of Quantity)
A2: BESS - długoterminowa umowa serwisowa (LTSA) | F2: Ogłoszenie nr - 2026- 125392-284766
A5: No. | B5: Zakres prac | C5: Opis zakresu prac | D5: Scope of works | E5: Description of scope of works | F5: Unit | G5: 1st year / 1-wszy rok [NET/NETTO] | H5: 2nd year / 2-gi rok [NET/NETTO] | I5: 3rd year / 3-ci rok [NET/NETTO] | J5: 4th year / 4-ty rok [NET/NETTO] | K5: 5th year / 5-ty rok [NET/NETTO] | L5: 6th year / 6-ty rok [NET/NETTO] Bez waloryzacji * waloryzacja rozliczana na zasadach określonych umową | M5: 7th year / 7-my rok [NET/NETTO] Bez waloryzacji * waloryzacja rozliczana na zasadach określonych umową | N5: 8th year / 8-my rok [NET/NETTO] Bez waloryzacji * waloryzacja rozliczana na zasadach określonych umową | O5: 9th year / 9-ty rok [NET/NETTO] Bez waloryzacji * waloryzacja rozliczana na zasadach określonych umową | P5: 10th year / 10-ty rok [NET/NETTO] Bez waloryzacji * waloryzacja rozliczana na zasadach określonych umową | Q5: 11th year / 11-ty rok [NET/NETTO] Bez waloryzacji * waloryzacja rozliczana na zasadach określonych umową | R5: 12th year / 12-ty rok [NET/NETTO] Bez waloryzacji * waloryzacja rozliczana na zasadach określonych umową | S5: 13th year / 13-ty rok [NET/NETTO] Bez waloryzacji * waloryzacja rozliczana na zasadach określonych umową | T5: 14th year / 14-ty rok [NET/NETTO] Bez waloryzacji * waloryzacja rozliczana na zasadach określonych umową | U5: 15th year / 15-ty rok [NET/NETTO] Bez waloryzacji * waloryzacja rozliczana na zasadach określonych umową | V5: 16th year / 16-ty rok [NET/NETTO] Bez waloryzacji * waloryzacja rozliczana na zasadach określonych umową | W5: 17th year / 17-ty rok [NET/NETTO] Bez waloryzacji * waloryzacja rozliczana na zasadach określonych umową | X5: 18th year / 18-ty rok [NET/NETTO] Bez waloryzacji * waloryzacja rozliczana na zasadach określonych umową | Y5: 19th year / 19-ty rok [NET/NETTO] Bez waloryzacji * waloryzacja rozliczana na zasadach określonych umową | Z5: 20th year / 20-ty rok [NET/NETTO] Bez waloryzacji * waloryzacja rozliczana na zasadach określonych umową | AA5: Amount for 20 years of services [price from AA6 put into Offer Form] Kwota za 20 lat usług [cenę z AA6 należy przenieść do Formularza Oferty] [NET/NETTO] | AB5: manufacture/subcontractor producent/podwykonawca
A6: II. | B6: Dostawa i uruchomienie urządzeń BESS i PCS i MVT | D6: Delivery & start-up of BESS & PCS &MVT equipment | AA6: =AA7+AA13+AA14 -> 0 | AB6: <= this value put into Offer Form [point 2]/ wartość tą umieszcza się w Formularzu Oferty [punkt 2]
A7: 1. | B7: Umowa Serwisowa w trakcie eksploatacji | D7: Long Term Service Agreement | AA7: =SUM(AA8:AA11) -> 0
A8: 1.1. | B8: LTSA Prewencyjna (okresowa/ planowana) przeglądy (opłata roczna) | D8: LTSA after Completion - Preventive (periodic / scheduled) maintenance (annual rate / fee) | F8: set | AA8: =SUM(G8:Z8) -> 0
A9: 1.2. | B9: LTSA Korekcyjna (niezaplanowane zdarzenia) przeglądy (opłata roczna) | D9: LTSA after Completion - Corrective (unscheduled) maintenance (annual rate / fee) | F9: set | AA9: =SUM(G9:Z9) -> 0
A10: 1.3. | B10: LTSA monitorowanie (opłata roczna) | D10: LTSA after Completion - monitoring service (annual rate / fee) | F10: set | AA10: =SUM(G10:Z10) -> 0
A11: 1.4. | B11: LTSA raportowanie (opłata roczna) | D11: LTSA after Completion - reporting service (annual rate / fee) | F11: set | AA11: =SUM(G11:Z11) -> 0
A12: 2. | B12: Gwarancja Dostępności | D12: Availability Guaranties
A13: 2.1. | B13: Gwarancja dostępności systemu (opłata roczna) | D13: System Guaranteed Availability (annual rate / fee) | F13: set | AA13: =SUM(G13:Z13) -> 0
A14: 3. | B14: Gwarancje wydajności, gwarancje na urządzenia | D14: Guaranties & Warranties | G14: BASIC SCOPE (included in BESS SUPPLY)/ Zakres podstawowy (zawarty w Dostawie BESS) | L14: EXTENDED SCOPE (annual rate/fee) / ROZSZERZONY ZAKRES (opłata roczna) | AA14: =SUM(AA15:AA17) -> 0
A15: 3.1 | B15: Gwarancja wydajności - Gwarantowana Dostępność Energii | D15: Performance Guaranties - Guaranteed Energy Capacity | F15: set | G15: this values put into Offer Form [point 3]/ wartości te umieszczane są w Formularzu Oferty [punkt 3]=>>>>>>> | AA15: =SUM(G15:Z15) -> 0
A16: 3.2 | B16: Gwarancja wydajności - Gwarantowana Sprawność Cyklu Pracy RTE | D16: Performance Guaranties - Guaranteed Round Trip Efficiency RTE | F16: set | G16: this values put into Offer Form [point 4]/ wartości te umieszczane są w Formularzu Oferty [punkt 4]=>>>>>>> | AA16: =SUM(G16:Z16) -> 0
A17: 3.3 | B17: Gwarancja zgodnie z § 8 Umowy na dostawę BESS | D17: Guarantee in accordance with § 8 BESS Supply Agreement | F17: set | G17: this values put into Offer Form [point 5]/ wartości te umieszczane są w Formularzu Oferty [punkt 5]=>>>>>>> | AA17: =SUM(G17:Z17) -> 0

Sheet Bid Evaluation Calculator
B1: ='I. BESS SUPPLY'!B1 -> CHAŁUPKI BESS | C1: NAZWA FIRMY/COMPANY: | F1: Załącznik F01 -Pomocniczy Przedmiar Zakresu Prac (Bill of Quantity)
F2: Ogłoszenie nr - 2026- 125392-284766
A3: Nieniszy formularz jest wyłącznie poglądowy i nie stanowi części Oferty. Poniżej znajduje się kalkulator Oceny Ofert. Należy uzupełnić komórkę E33 tego formularza o wartość Średniej Gwarantowanej Sprawności Cyklu pracy RTE przez 20 lat z sekcji 1.3 SRFa [E31]. Wartości z zakładki BESS SUPLLY i BESS LTSA tego formularza uzupełniane są automatycznie. This form is for reference only and is not part of the Offer. Below is the Bid Evaluation Calculator. Fill in the E33 cell of this form with the value of the Average Guaranteed battery RTE over 20 years from section 1.3 of the SRF [E31]. The values from the BESS SUPPLY and BESS LTSA tabs of this form are filled in automatically.
B6: Parametry ofertowe/Offer parameters | H6: Mnożniki/Coefficients
B7: Dostawa BESS (5 lat gwarancji)/BESS supply (5 years guarantee) | D7: Cena
H8: WK1 | I8: Dostawa BESS (5 lat gwarancji) brutto/ BESS supply (5 years guarantee) gross | L8: -1
C9: Jednostka/Unit | D9: Dokładność/Accuracy | H9: WK2 | I9: (LTSA + Rozszerzona gwarancja wydajności i na urządzenia - 6-20 lat brutto)/ (LTSA + extended guarantee 6-20 years) gross | L9: -0.46068713
B10: Cena zakupu netto/Purchase price netto | C10: [EUR] | D10: [0,01] | E10: ='I. BESS SUPPLY'!I6 -> 0 | H10: WK3 | I10: Średnia Gwarantowana Sprawność Cyklu pracy/ Average Guaranteed battery RTE over 20 years | L10: 1.371
B11: PODATEK/TAX (23% VAT) | C11: [EUR] | D11: [0,01] | E11: =E10*0.23 -> 0
B12: Cena zakupu brutto/Purchase price gross | C12: [EUR] | D12: [0,01] | E12: =E10*1.23 -> 0
B13: Cena zakupu brutto/Purchse price gross | C13: [mln EUR] | D13: [0,00000001] | E13: =E12/10^6 -> 0
B16: (LTSA + rozszerzona gwarancja 6-20 lat)/(LTSA + extended guarantee 6-20 years) | D16: LTSA | H16: Wyniki punktacji/ Scoring results
B19: LTSA netto 20 lat/ LTSA netto 20 years | C19: [EUR] | D19: [0,01] | E19: ='II. BESS LTSA'!AA7+'II. BESS LTSA'!AA13 -> 0
B20: PODATEK/TAX (23% VAT) | C20: [EUR] | D20: [0,01] | E20: =E19*0.23 -> 0
B21: LTSA brutto 20 lat/ LTSA gross 20 years | C21: [EUR] | D21: [0,01] | E21: =E19*1.23 -> 0
B23: Rozszerzona gwarancja wydajności i na urządzenia - 6-20 lat netto/ Extended guarantee 6-20 years netto | C23: [EUR] | D23: [0,01] | E23: ='II. BESS LTSA'!AA14 -> 0
B24: PODATEK/TAX (23% VAT) | C24: [EUR] | D24: [0,01] | E24: =E23*0.23 -> 0
B25: Rozszerzona gwarancja wydajności i na urządzenia - 6-20 lat brutto/ Extended guarantee 6-20 years gross | C25: [EUR] | D25: [0,01] | E25: =E23*1.23 -> 0 | H25: KC1 | J25: Punktacja Dostawy BESS (5 lat gwarancji) brutto/ Scoring of BESS supply (5 years guarantee) gross | L25: =L8*E13 -> 0
H26: KC2 | J26: Punktacja LTSA + Rozszerzona gwarancja wydajności i na urządzenia - 6-20 lat brutto/ Scoring of LTSA + Extended guarantee 6-20 years gross | L26: =E28*L9 -> 0
B27: LTSA + Rozszerzona gwarancja wydajności i na urządzenia - 6-20 lat brutto/ LTSA + Extended guarantee 6-20 years gross | C27: [EUR] | D27: [0,01] | E27: =E25+E21 -> 0
B28: LTSA + Rozszerzona gwarancja wydajności i na urządzenia - 6-20 lat brutto/ LTSA + Extended guarantee 6-20 years gross | C28: [mln EUR] | D28: [0,00001] | E28: =E27/10^6 -> 0 | H28: KT | J28: Punktacja/Scoring KT | L28: =L10*(E33-86%)*100 -> -117.906
B30: Parametry techniczne/ Technical parameters | D30: Parametry techniczne
B33: Średnia Gwarantowana Sprawność Cyklu pracy RTE przez 20 lat/ Average Guaranteed battery RTE over 20 years | C33: [%] | D33: [0,1] | I33: Finalna punktacja/Final Scoring K: | L33: =L25+L26+L28+1000 -> 882.094
