Workbook
Name Angle_X: #REF!
Name Angle_Y: #REF!
Name Asset_types: #REF!
Name Capability: #REF!
Name Company: #REF!
Name Company_Size: #REF!
Name cpi: #REF!
Name cpi: #REF!
Name cpi: #REF!
Name cpi: #REF!
Name disc: #REF!
Name Driver: #REF!
Name Driver: #REF!
Name Driver: #REF!
Name Driver: #REF!
Name ER_List: #REF!
Name Hypotenuse: #REF!
Name Ins_CPI: #REF!
Name Ins_CPI: #REF!
Name Ins_CPI: #REF!
Name Ins_CPI: #REF!
Name land: #REF!
Name land: #REF!
Name land: #REF!
Name land: #REF!
Name Priority: #REF!
Name Project_Name: #REF!
Name Project_Name: #REF!
Name Project_Name: #REF!
Name Project_Name: #REF!
Name rating: #REF!
Name Response_code__see_vendor_instructions_tab: #REF!
Name Risk: #REF!
Name Risk: #REF!
Name Risk: #REF!
Name Risk: #REF!
Name Risk: #REF!
Name SECTIONS: #REF!
Name Side_X: #REF!
Name Side_Y: #REF!
Name Status: #REF!
Name ToSort: #REF!
Name WC: #REF!
Name WC: #REF!
Name WC: #REF!
Name WC: #REF!

Sheet Front page
D4: INVITATION TO TENDER | Pabianice 60MW/120MWh BESS & HV substation
D5: Battery Energy Storage Specification Book
D24: DESIGNATION | E24: Technical Specification Book
D25: DOCUMENT No. | E25: VTA-2026-01-Pologne-BESS - BESS Functional Specifications
D26: REVISION | E26: A
D27: ISSUE DATE | E27: 46272
D28: STATUS | E28: Commercial in Confidence
D29: PREPARED BY | E29: Marianne Ferron
D30: CHECKED BY | E30: Bassam Allaou
C34: Disclaimer | D34: This document has been prepared and is issued by Skyray Engineering (“Skyray”) for VOLTA GROUP. This document is issued as 'Confidential'. If release to other parties is required, permission should be requested from Skyray Engineering.
C37: Context | D37: This document represents the technical specification books for the BESS Energy storage for the Pabianice project that is being developed by VOLTA GROUP.
A42: Skyray Engineering Intellectual Property, Copyright and Confidentiality expressed, implied and/or otherwise agreed – in all engineering, commercial, business contacts, financial, technical and general documents & narratives.
A43: In receiving and reading this document the reader gives an undertaking and agreement of non-disclosure and non-circumvent. The document and its contents MUST NOT be shared without the direct and express written permission of and in writing to any proposed recipients from Skyray Engineering, its agents and officers.
A44: Skyray reserves the right, at any time, without notice, to modify or retract any part or all of the draft document. To the maximum extent permitted by law, Skyray disclaims any responsibility or liability arising from or in connection with this document.
A45: NOTE: Certain information requested in this file is provided solely for the Employer’s information and shall not be subject to evaluation or entry criteria. Only those criteria, information and documents expressly identified in the RFQ mail letter as being subject to evaluation shall be taken into account for the purposes of assessing the Offer.

Sheet Contents
B3: 1 Introduction | D3: 2 Scope Of Works | G3: 3 (a) Commercial Terms Supply | J3: 3 (b) Commercial Terms O&M | M3: 4 Warranties and LTSA | O3: 5 Offer & Equipment Details
D5: ='2 Scope of Works'!B7 -> A | E5: ='2 Scope of Works'!C7 -> General site & bidder information | G5: =#REF! -> #REF! | H5: =#REF! -> #REF! | J5: =#REF! -> #REF! | K5: =#REF! -> #REF! | M5: =#REF! -> #REF! | O5: see pricing details
D6: ='2 Scope of Works'!B8 -> A.1 | E6: ='2 Scope of Works'!C8 -> Track record | G6: =#REF! -> #REF! | H6: =#REF! -> #REF! | J6: =#REF! -> #REF! | K6: =#REF! -> #REF!
D7: ='2 Scope of Works'!B13 -> A.6 | E7: ='2 Scope of Works'!C13 -> ESG/CSR policy | G7: =#REF! -> #REF! | H7: =#REF! -> #REF! | J7: =#REF! -> #REF! | K7: =#REF! -> #REF! | M7: =#REF! -> #REF!
G8: =#REF! -> #REF! | H8: =#REF! -> #REF! | J8: =#REF! -> #REF! | K8: =#REF! -> #REF!
D9: ='2 Scope of Works'!B18 -> B | E9: ='2 Scope of Works'!C18 -> Scope and equipment details | G9: =#REF! -> #REF! | H9: =#REF! -> #REF! | J9: =#REF! -> #REF! | K9: =#REF! -> #REF! | M9: =#REF! -> #REF!
D10: ='2 Scope of Works'!B19 -> B.1.a | E10: ='2 Scope of Works'!C19 -> Overview of proposed physical interfaces | G10: =#REF! -> #REF! | H10: =#REF! -> #REF!
D11: ='2 Scope of Works'!B20 -> B.1.b | E11: ='2 Scope of Works'!C20 -> TSO's Requirement & Interface w/ Communication System | J11: =#REF! -> #REF! | K11: =#REF! -> #REF! | M11: =#REF! -> #REF!
D12: ='2 Scope of Works'!B21 -> B.2 | E12: ='2 Scope of Works'!C21 -> Batteries | G12: =#REF! -> #REF! | H12: =#REF! -> #REF! | J12: =#REF! -> #REF! | K12: =#REF! -> #REF!
D13: ='2 Scope of Works'!B22 -> B.3 | E13: ='2 Scope of Works'!C22 -> Battery Management System (BMS) | G13: =#REF! -> #REF! | H13: =#REF! -> #REF! | J13: =#REF! -> #REF! | K13: =#REF! -> #REF! | M13: =#REF! -> #REF!
D14: ='2 Scope of Works'!B23 -> B.4 | E14: ='2 Scope of Works'!C23 -> Battery ancillaries: Thermal management system/HVAC | G14: =#REF! -> #REF! | H14: =#REF! -> #REF! | J14: =#REF! -> #REF! | K14: =#REF! -> #REF!
D15: ='2 Scope of Works'!B24 -> B.5 | E15: ='2 Scope of Works'!C24 -> Battery ancillaries: Thermal event / fire detection and protection | G15: =#REF! -> #REF! | H15: =#REF! -> #REF! | J15: =#REF! -> #REF! | K15: =#REF! -> #REF!
D16: ='2 Scope of Works'!B25 -> B.6 | E16: ='2 Scope of Works'!C25 -> Battery enclosures | G16: =#REF! -> #REF! | H16: =#REF! -> #REF! | J16: =#REF! -> #REF! | K16: =#REF! -> #REF!
D17: ='2 Scope of Works'!B26 -> B.7 | E17: ='2 Scope of Works'!C26 -> BESS Layout and distances | G17: =#REF! -> #REF! | H17: =#REF! -> #REF! | J17: =#REF! -> #REF! | K17: =#REF! -> #REF!
D18: ='2 Scope of Works'!B27 -> B.8 | E18: ='2 Scope of Works'!C27 -> Power Conversion System (PCS) | G18: =#REF! -> #REF! | H18: =#REF! -> #REF! | J18: =#REF! -> #REF! | K18: =#REF! -> #REF!
D19: ='2 Scope of Works'!B28 -> B.9 | E19: ='2 Scope of Works'!C28 -> Feeder transformer (LV to 33 kV ) | G19: =#REF! -> #REF! | H19: =#REF! -> #REF! | J19: =#REF! -> #REF! | K19: =#REF! -> #REF!
D20: ='2 Scope of Works'!B29 -> B10 | E20: ='2 Scope of Works'!C29 -> Energy Management System (EMS), and SCADA | G20: =#REF! -> #REF! | H20: =#REF! -> #REF! | J20: =#REF! -> #REF! | K20: =#REF! -> #REF!
D21: ='2 Scope of Works'!B30 -> B.10.bis | E21: ='2 Scope of Works'!C30 -> HV Substation - SCADA/RTU | G21: =#REF! -> #REF! | H21: =#REF! -> #REF! | J21: =#REF! -> #REF! | K21: =#REF! -> #REF!
D22: ='2 Scope of Works'!B31 -> B.11 | E22: ='2 Scope of Works'!C31 -> 33 kV switchrooms (inside BESS compound) | G22: =#REF! -> #REF! | H22: =#REF! -> #REF! | J22: =#REF! -> #REF! | K22: =#REF! -> #REF!
D23: ='2 Scope of Works'!B32 -> B.12.a | E23: ='2 Scope of Works'!C32 -> HV substation - Grid transformers (220/33 kV) | G23: =#REF! -> #REF! | H23: =#REF! -> #REF! | J23: =#REF! -> #REF! | K23: =#REF! -> #REF!
D24: ='2 Scope of Works'!B36 -> B.13 | E24: ='2 Scope of Works'!C36 -> HV substation - 220/33 kV compound | G24: =#REF! -> #REF! | H24: =#REF! -> #REF! | J24: =#REF! -> #REF! | K24: =#REF! -> #REF!
D25: ='2 Scope of Works'!B37 -> B.14.a | E25: ='2 Scope of Works'!C37 -> HV Substation – Control Building (Control Room, TSO Room, LV Distribution) | G25: =#REF! -> #REF! | H25: =#REF! -> #REF! | J25: =#REF! -> #REF! | K25: =#REF! -> #REF!
D26: ='2 Scope of Works'!B39 -> B.15 | E26: ='2 Scope of Works'!C39 -> HV substation - 33kV switchgear | G26: =#REF! -> #REF! | H26: =#REF! -> #REF! | J26: =#REF! -> #REF! | K26: =#REF! -> #REF!
D27: ='2 Scope of Works'!B40 -> B.16 | E27: ='2 Scope of Works'!C40 -> Auxiliary supply | G27: =#REF! -> #REF! | H27: =#REF! -> #REF! | J27: =#REF! -> #REF! | K27: =#REF! -> #REF!
D28: ='2 Scope of Works'!B41 -> B.17 | E28: ='2 Scope of Works'!C41 -> Site Auxiliary Controls | G28: =#REF! -> #REF! | H28: =#REF! -> #REF! | J28: =#REF! -> #REF! | K28: =#REF! -> #REF!
D29: ='2 Scope of Works'!B42 -> B.18 | E29: ='2 Scope of Works'!C42 -> Metering: operational / performance and frequency metering | G29: =#REF! -> #REF! | H29: =#REF! -> #REF! | J29: =#REF! -> #REF! | K29: =#REF! -> #REF!
D30: ='2 Scope of Works'!B43 -> B.19.a | E30: ='2 Scope of Works'!C43 -> Cabling (LV & HV AC, DC and Comms) | G30: =#REF! -> #REF! | H30: =#REF! -> #REF! | J30: =#REF! -> #REF! | K30: =#REF! -> #REF!
D31: ='2 Scope of Works'!B46 -> B.20 | E31: ='2 Scope of Works'!C46 -> Earthing and lightning protection | G31: =#REF! -> #REF! | H31: =#REF! -> #REF! | J31: =#REF! -> #REF! | K31: =#REF! -> #REF!
D32: ='2 Scope of Works'!B47 -> B.21 | E32: ='2 Scope of Works'!C47 -> Ground works, site roads, access and construction compound | G32: =#REF! -> #REF! | H32: =#REF! -> #REF!
D33: ='2 Scope of Works'!B48 -> B.21bis | E33: ='2 Scope of Works'!C48 -> Foundations and site drainage | G33: =#REF! -> #REF! | H33: =#REF! -> #REF!
D34: ='2 Scope of Works'!B49 -> B.22 | E34: ='2 Scope of Works'!C49 -> HV Substation - Foundation | G34: =#REF! -> #REF! | H34: =#REF! -> #REF!
D35: ='2 Scope of Works'!B50 -> B.23 | E35: ='2 Scope of Works'!C50 -> Fencing, gates and access | G35: =#REF! -> #REF! | H35: =#REF! -> #REF!
D36: ='2 Scope of Works'!B51 -> B.24 | E36: ='2 Scope of Works'!C51 -> CCTV & site security and lighting | G36: =#REF! -> #REF! | H36: =#REF! -> #REF!
D37: ='2 Scope of Works'!B52 -> B.25 | E37: ='2 Scope of Works'!C52 -> Tele-communication systems | G37: =#REF! -> #REF! | H37: =#REF! -> #REF!
D38: ='2 Scope of Works'!B53 -> B.26 | E38: ='2 Scope of Works'!C53 -> Landscaping and reinstatement | G38: =#REF! -> #REF! | H38: =#REF! -> #REF!
D39: ='2 Scope of Works'!B54 -> B.27 | E39: ='2 Scope of Works'!C54 -> Spare parts containers | G39: =#REF! -> #REF! | H39: =#REF! -> #REF!
D40: ='2 Scope of Works'!B55 -> B.28 | E40: ='2 Scope of Works'!C55 -> Spare parts List | G40: =#REF! -> #REF! | H40: =#REF! -> #REF!
D41: ='2 Scope of Works'!B56 -> B.29 | E41: ='2 Scope of Works'!C56 -> End of life / battery disposal
D43: ='2 Scope of Works'!B58 -> C | E43: ='2 Scope of Works'!C58 -> Services, key performance requirements and energy capacity sizing
D44: ='2 Scope of Works'!B59 -> C.1 | E44: ='2 Scope of Works'!C59 -> Specified services
...

Sheet 1 Introduction
C3: Battery Energy Storage Functional Specification
A6: Introduction to these Functional specifications
A8: The Projects : The project involves the installation of BESS storage systems and an HV substation. It has a total available capacity at the Point of Connection of 60MW/120MWh. The connection point has been designated at the transmission system operator’s (TSO) substation – Pabianice 220/110 kV substation, located within 200 meters.
A9: Scope of work : Volta Polska is in particular looking for Bidders that can cater to the whole scope of the project on the basis of a Turnkey Contract. The Contractor shall be responsible for the design, engineering, procurement, supply, shipping, construction, installation, commissioning, testing, warranties, and maintenance of the complete Battery Energy Storage System (BESS) and its Balance of Plant (BOP). The scope includes, in particular,: -BESS equipment: batteries, PCS (inverters and transformers), BMS, EMS/SCADA, thermal management, safety systems, and auxiliary power supply. -BOP works: all civil and electrical infrastructure, foundations, drainage, fencing, access roads, MV/HV works, earthing, lightning protection, and security systems. -Integration and installation of all equipment, including cabling, interconnections, and commissioning of the full facility up to the Point of Connection (POC). -HV transformers: Supply and installation of HV Substation (including MV/HV Transformers), -O&M services. The Contractor must submit a proposal covering the project in its entirety; partial bids will not be considered. The Contractor shall deliver a fully integrated, operational system with no scope gaps between BESS supply, BOP installation and HV substation supply & installation.
A10: Site specifications
B13: Project | C13: Pabianice
B14: Localisation | C14: 51° 40' 41.011" N ; 19° 21' 44.992" E
B15: Available area | C15: 8000 m²
B16: Ambient Temperatures (min ; max) | C16: -30°C to 35°C
B17: Relative humidity | C17: From 60% to 95%
B18: Altitude | C18: 185m
A20: Instruction to bidders
A22: Bidders are required to fully complete all mandatory fields within this Excel document. Additional documentation may be provided to supplement your response, where appropriate, but shall not replace any parts of this document. Please follow the following instructions to complete this document: 1) This document comprises 1 Introduction, 2 Scope of Works, 4 Warranties & LTSA, 5 Offer & Equipment Details,6 Sizing summary sheet. Bidders are requested to complete tabs 2, 4, 5, 6. 2) Instructions are included at the top of the sheet. In general, Bidders shall include their responses where there is an '*' plus additional information in writing where this is required. If additional documentation is provided to supplement the response, this shall be suitably referenced against the relevant response line item. A folder structure is provided for supporting documentation in Annex 03. 3) Before submitting the document, verify all STATUS boxes below are Complete. 4) Upload the completed document to the designated plateform (cf ITT instructions)
A23: Deadline: The response time granted to the bidders is available in the RFQ.
A24: Selection Criteria: Tender evaluation criteria are available in the RFQ. Confidentiality: • Bidders will only be accepted where a Non-Disclosure Agreement (NDA) is in place. • All reports and presentations produced as part of this project will remain confidential and exclusively the property of Employer.
A26: SECTION | D26: STATUS
B28: 2 | C28: Scope of Works | D28: ='2 Scope of Works'!F2 -> Not Complete
B29: 3 | C29: Warranties & LTSA | D29: ='3 Warranties and LTSA '!V2 -> Not Complete
B30: 4 | C30: Offer & Equipment Details | D30: ='4 Offer & equipment details'!H2 -> Not Complete

Sheet 2 Scope of Works
B2: This section describes the scope of supply and associated works for the full project and key technical parameters. The Employer has set out its requirements in tabulated form, and the Bidder shall respond if their offer is compliant with the requirement specified. Where their offer deviates from the requirement or where requested to do so, the Bidder is requested to provide a brief description of their offer and the deviation from the specified requirements. In case of deviations reported, Bidder must propose equivalent solutions in accordance with the RFQ. Where appropriate, the Bidder shall provide additional documentation to supplement their response; this shall be referenced in the corresponding item below. The Bidder shall be fully responsible for the design, engineering, procurement, supply, shipping to site, construction, installation, commissioning, testing, warranties, and maintenance of the complete battery energy storage system and associated civil and electrical balance of plant up to the Point of Connection (POC). The scope of works shall include, without limitation: - Supply and installation of batteries and associated ancillary equipment (e.g. thermal management and safety systems); - Supply and installation of Battery Management System (BMS); - Supply and installation of LV/MV transformers; - Supply and installation of Power Conversion Systems (PCS), including inverters and transformers; - Supply and installation of HV Substation (including MV/HV Transformers); - Supply and installation of Supervisory Control and Data Acquisition (SCADA) and Energy Management System (EMS); - Supply and installation of DC cabling and auxiliary power supply equipment; - Civil and electrical balance of plant, including buildings, foundations, cabling, switchgear, and any auxiliary systems required; - Full integration, testing, and commissioning of the overall system to deliver a fully operational BESS facility. - Full O&M for BESS and HV substation for 2 years (unless agreed longer period due to the RFQ). The Bidder shall ensure that the complete scope, including both equipment supply and balance of plant, is delivered in a fully integrated manner. Interfaces between equipment and civil/electrical works are the sole responsibility of the Bidder. The Bidder is to complete it's responses in Cell G2, and in Column G, in response to the requirements. See also the diagram in the "Introduction" tab, for a high level view of the expected scope. | F2: Not Complete | G2: Instruction to Bidders: mark this section as "Complete" upon completion of this section
C4: Item | E4: Full wrap EPC specifications | F4: Bidder to confirm if offer is compliant | G4: Additional information (include reference to separate document with additional information where required) | H4: Document expected at the tender phase
B7: {=B7:B19} -> 0 | C7: General site & bidder information
B8: A.1 | C8: Track record | E8: The Bidder shall provide a information on its track record and the track record of major sub-contractors and equipment suppliers (batteries, PCS, EMS, civil BoP, electrical BoP, transmission-connected projects as appropriate) for similar projects to the scope described in the work package. We are particularly interested in past experience with BESS projects including design, supply, installation, integration, commissioning, operation and maintenance of Battery Energy Storage Systems and other utility-scale energy infrastructure projects. Particular attention will be given to the Bidder’s track record on projects of similar size and complexity, the location of its maintenance service centers, the availability and qualifications of its service and maintenance teams, and its capability to provide timely technical support throughout the Project lifecycle.Preference may be given to Bidders having established service capabilities within Poland or neighbouring European countries. The track record table shall include, at a minimum, the following fields: - Project Name - Location (Country) - Year of COD - Capacity (MW / MWh) - Scope of Works (EPC / OEM / O&M) - Substation / Grid Connection (Voltage level) - Employer / Client - Role of Bidder (Main / Subcontractor / Supplier) - Client Contact Reference - Notes / Letters of Recommendation Where possible, letters of recommendation from Clients with whom the Bidder has successfully completed projects with comparable scope shall additionally be submitted as part of the Bidder's tender. | F8: * | G8: Bidder to include separate track record document, covering: the scope undertaken by the relevant contractor, the size and location of the project(s) and any letters of recommendation | H8: Track Records & References of Company, sub-contractors and equipment suppliers
B9: A.2 | C9: Delivery programme | E9: The target Commercial Operation Date (COD) for the Project is 31/08/2028. The Bidder shall submit a detailed Project Schedule demonstrating its ability to achieve the required COD. Any Tender that does not demonstrate compliance with the required Commercial Operation Date, or that proposes a schedule incompatible with achieving the target COD, may be considered non-compliant and may be rejected without further evaluation. Assuming the timelines as stipulated in the ITT, Bidders shall provide a detailed schedule (Gantt chart + dated milestones) with explicit assumptions (NTP, access constraints, phasing, buffers). The project programme covering the following milestones : - Ordering and delivery of main components (HV transformers, batteries, PCSs), with indication of lead times for major equipment; - Completion of BOP design - Mobilisation to site - Completion of civil works - Completion of mechanical and electrical installation (Mechanical Completion) - Completion of Cold commissioning - Grid Connection - Completion of Hot commissioning and Site Acceptance Testing - Achieving Take Over / commercial operations (COD) | F9: * | G9: Bidder to include outline project programme as separate document | H9: Detailed Project Schedule
B10: A.3 | C10: Financial Statement | E10: Audited financial performance statements (or summary from an independent audit) for the last three (3) years demonstrating financial soundness. A declaration of any litigation or arbitration in the last five (5) years related to contract execution. Confirmation of ability to provide the required bonds in the Commercial Terms. Bidders shall ensure to identify the envisaged contracting entity of their groups for the contract awarding, and financial statements under the name of such entity shall be included in their offers. | F10: * | G10: Bidder to include a financial statements | H10: financial statements
B11: A.4 | C11: Project Team | E11: Bidders shall submit a description of the project team for design and construction detailing how site management and supervision will be carried out. Sample CVs for the key team members (e.g. principal designers, project manager & site managers) should be provided. Bidders should also provide details of the team(s) based full-time in Poland. | F11: * | H11: Internal Organisation chart and CVs
B12: A.5 | C12: Subcontractors & RACI | E12: Bidders Shall Provide a complete organisational chart (including the HV substation) and a responsibility matrix (RAM/RACI) specifying the role of each subcontractor and the interfaces. Bidders shall provide the full names of the entities signing the EPC contract and their legal identification numbers at the tender stage. | F12: * | H12: External Organisation chart and Subcontractors presentations, Responsibility matrix. Legal identification numbers
B13: A.6 | C13: ESG/CSR policy | E13: Bidders Shall submit their own Code of Conduct (or equivalent ESG/CSR policy) as part of their Offer, to demonstrate alignment with responsible sourcing, labour, safety and environmental standards. The Project is required to comply with all applicable European and national environmental, social and governance regulations (“ESG”), thus the Bidders will need to adopt a code of ethical conduct adhering to and aligned its operations and policies with the ESG and the best practice. The Bidders shall reply to the following questions: - Are any of the following raw materials included in the batteries you may provide the Client with? Cobalt, Aluminum, Nickel, Lithium Conflict Minerals (3TG): Tin, Tungsten, Tantalum and Gold - Does your company comply with one of the following regulations: applicable EU and national supply chain due diligence, ESG, labour, modern slavery and responsible sourcing regulations, or any similar regulation? - Do you have memberships in responsible sourcing initiatives such as RCS Global, Responsible Minerals Initiative (RMI) or Responsible Business Alliance (RBA)? If so, please describe your commitments. - Did your company get a Corporate Social Responsibility (CSR) assessment performed by an external third-party such as or EcoVadis? Is so, please share your score and/or any relevant audit report. | F13: * | H13: CSR / ESG / Code of Conduct policy acknowledgment.
B14: A.7 | C14: Documentation, language and as-built | E14: All contractual and technical documentation, correspondence, reporting and training material shall be in English. Documentation shall be delivered in both electronic and paper form in accordance with the document management system agreed under the Contract, and shall include the complete as-built documentation, single-line diagrams, configuration files, O&M manuals and safety instructions placed in the relevant equipment and buildings. | F14: * | H14: CSR / ESG / Code of Conduct policy acknowledgment.
B15: A.8 | C15: Client-supplied (free issue) equipment | E15: The Client reserves the right, at its sole discretion, to procure directly the Battery Energy Storage System (BESS), the High Voltage (HV) transformer, or any other major equipment identified in the Project scope. Should the Client exercise this right, the relevant equipment supplier shall be responsible for the delivery and installation of such supplied equipment, unless otherwise agreed. The Bidder shall remain responsible for the coordination of all technical and contractual interfaces with the supplier, including review of interface requirements, coordination of design inputs, verification of compatibility with the Plant design, coordination of access and installation sequencing, and support to testing, commissioning and final integration of the equipment into the Plant. Accordingly, the Bidder shall include in its Tender a separate and clearly identified price for all works associated with the installation and connection of the Client-supplied equipment. | F15: * | H15: CSR / ESG / Code of Conduct policy acknowledgment.
B18: B | C18: Scope and equipment details
B19: B.1.a | C19: Overview of proposed physical interfaces | E19: The Bidder shall, at its own cost, install a supervision and control system (hereinafter the “System”), which will be shipped by the Aggregator to the Contractor directly. The System shall consist of an electrical cabinet with an industrical computer, router and 24Vdc power supply. The Aggregator shall provide the Contractor with instructions and remote assistance for the connection and commissioning tests of the System. The System shall be connected to the Energy Management System (EMS) of the Installation and to the client terminal block of the site metering in order to enable real-time acquisition of consumption and production data. It is expressly understood between the Parties that the System may issue control commands to the Contractor’s Installation automation system, but such commands shall in no case override or bypass the Installation’s intrinsic safety systems. System Operational Requirements: A dedicated local communication link (SDSL, or fibre) shall be provided for the System at the Contractor’s cost, who shall ensure its proper functioning and availability. A redundant internet connection with automatic failover switch shall be implemented to ensure continuous system connectivity and minimize downtime in case of primary link failure. | F19: * | G19: If not compliant with these requirements, Bidder to clearly specify how it is proposing the interfaces are made. | H19: N/A
B20: B.1.b | C20: TSO's Requirement & Interface w/ Communication System | E20: The Bidder shall perform all tests required by the TSO up to the stage of permanent grid access. The Bidder’s SCADA system and the BESS control system interface shall be fully compatible with, and capable of communicating with, the TSO Communication System. The Bidder shall demonstrate the adequacy of the proposed solution with respect to the specific Site conditions, grid connection constraints, operational requirements, and performance obligations applicable to the Project. The Bidder shall implement the interface with the Transmission System Operator required by the connection conditions. Data shall be transmitted in IEC 60870-5-104 over two permanently operating transmission paths, to the KDM Bielawa SCADA/EMS system and to the reserve KDM SCADA/EMS system, with the on-line communication controllers complying with the Operator's SSiN standard. Remote control from the Operator shall allow selection of autonomous or coordinated operating mode, application of the maximum permissible active power, selection of the Q, cos phi and voltage static characteristic (UST) criteria, entry of the corresponding setpoints, remote parameterisation of Umin, Umax, Uprog1 and Uprog2, switching between charging and discharging mode, and tripping of the export circuit breaker. All of these functions shall also be achievable locally. The detailed signal list shall form part of the design documentation and shall be agreed with the Operator.The Bidder shall refer to the full TSO grid connection conditions for the complete set of requirements and shall comply with them in their entirety. | F20: * | H20: N/A
B21: B.2 | C21: Batteries | E21: Battery design shall be modular, with the battery module as the smallest sub-component handled on site. Modules shall be installed in racks or equivalent structures, which in turn shall be housed in IP-rated enclosures. The following requirements shall apply: - Battery modules shall be IP66-rated and designed without bolted connections. - Battery enclosures/containers shall be constructed with fire-rated walls providing a minimum 2-hour fire resistance (REI120), in compliance with Polish fire-safety and environmental regulations and applicable fire safety standards. - The batteries shall have a suitable C-rate to meet site power requirements across the full state of charge (SoC) range applicable to the energy capacity warranty. - Power and energy capacity sizing shall comply with Section [C], accounting for system losses, auxiliary loads, and any SoC operating constraints. - Batteries shall use Lithium Iron Phosphate (LFP) chemistry and be certified to IEC 62933, IEC 62619, UL1973, UL9540 & UL9540A. - The Bidder shall submit full UL9540A propagation test reports (cell, module, and container levels) from an accredited third-party laboratory, demonstrating compliance with fire safety and propagation risk requirements. - The Bidder shall provide evidence that the battery manufacturing facilities are ISO-certified (ISO 9001 or equivalent). - Battery transport shall comply with UN 38.3, IEC 62281, and IEC 63056 standards, with certificates provided prior to shipment. | F21: * | G21: Bidder to provide details of its proposed battery technology/model. If not compliant with these requirements, Bidder to record deviations/limitations of its proposed solution to meet these requirements. Provide mandatory UL/IEC certifications and test reports UL/IEC): IEC 62619, UL 1973, UL 9540/9540A, IEC 62933 (container/system level), and UL 1741 (inverters, if applicable). | H21: To be included in the technical offer
B22: B.3 | C22: Battery Management System (BMS) | E22: The BMS shall be implemented in a hierarchical architecture, with units (or equivalent) at a minimum of three integration levels: module, rack/string, and enclosure. The BMS shall: - Continuously monitor temperature, voltage, current, and other key parameters at individual cell level; - Initiate protection measures if any parameter exceeds OEM-defined safe operating thresholds; - Safely shut down and isolate affected components in case of detected faults; - Integrate with the BESS EMS as described in Section [B.9 & B.10]. The BMS shall also track all necessary parameters for monitoring of battery usage and performance against warranty, as well as raising alarms for any fault or erroneous operation. This will include a clear requirement to monitor and manage SoC balancing across strings/enclosures and shall require minimal manual intervention to maintain balancing and avoid unscheduled outages due to imbalance. The BMS shall be capable of performing cell balancing within strings, as well as recalibration of SoC measurements. The BMS shall perform active balancing mechanisms (preferred technology) in order to maximise system efficiency, reduce thermal stress, extend battery lifetime, and improve safety. Passive balancing solutions shall not be accepted unless the Bidder provides a detailed technical justification demonstrating equivalent or superior performance in terms of balancing speed, efficiency, and impact on battery life. The active balancing system shall meet the following requirements: - Efficiency: Energy redistribution among cells shall be achieved without conversion into heat, with minimal energy losses. - Balancing Speed: The system shall provide fast charge balancing, capable of correcting significant state-of-charge differences within operationally relevant timescales. - Safety: The system shall prevent cell overvoltage/undervoltage and maintain cell voltages within safe operating limits. - Scalability: The solution shall be applicable to large-scale BESS installations, with proven balancing performance at module, rack/string, and enclosure levels. - Technology: The Bidder may adopt either (i) off-the-shelf active balancing ICs and reference designs (e.g. flyback, Cuk, or equivalent topologies) or (ii) custom circuit designs, provided they meet the above performance requirements. - Evidence: The Bidder shall submit technical documentation demonstrating balancing current capability, topology used, efficiency under load, and references of prior successful implementations in comparable BESS projects. The Bidder shall provide details of its proposed solution for SoC calibration and balancing at cell, string, and enclosure levels. | F22: * | G22: Bidder to provide details of the BMS architecture of its proposed system solution, including levels of DC protection and how cell balancing will be maintained. If not compliant with these requirements, Bidder to record deviations/limitations of its proposed solution to meet these requirements. | H22: To be included in the technical offer
B23: B.4 | C23: Battery ancillaries: Thermal management system/HVAC | E23: The batteries and/or the enclosures shall be fitted with thermal management systems suitably sized as described in [D.9]. The thermal management system shall be liquid cooled, and shall be highly-reliable, energy efficient and operate over the full range of ambient conditions on site. The Bidder shall provide integrated leak detection and alarm functionalities, connected to the SCADA system. The Bidder shall use non-ozone depleting refrigerant and shall not use any refrigerant that is either banned or likely to be banned in the near future in Poland. The Bidder shall seek to minimise the Global Warming Potential (GWP) of any refrigerant gasses it uses. If use of F-gasses is unavoidable, the Bidder shall ensure it has access to necessary quota allocations or other import requirements necessary for use of these gasses in Poland. The Bidder shall ensure that all refrigerants used comply with EU Regulation 2024/573 (F-Gas Regulation) and the Polish Environmental Protection Law. Refrigerants shall be selected and applied in accordance with EN 378 / ISO 5149 and ISO 817 safety classifications, with preference for low-GWP alternatives. Where liquid cooling systems are adopted, the HVAC systems shall be designed with an oversizing factor of 20–30% above the calculated thermal load, to ensure redundancy and reliability under extreme operating conditions. The bidder is requested to provide details of the power consumption and thermal removal capability of the BESS thermal management system. | F23: * | G23: Bidder to provide details of its HVAC/thermal management solution. If not compliant with these requirements, Bidder to record deviations/limitations of its proposed solution to meet these requirements. | H23: To be included in the technical offer
B24: B.5 | C24: Battery ancillaries: Thermal event / fire detection and protection | E24: The plant shall include an integrated fire and explosion protection system, comprising detection of over-temperature, heat, smoke, gas (off-gas/flammable) and humidity, with all sensors connected to SCADA. The fire alarm system, automatic and manual, shall provide both on-site audible/visual cues and remote alarms. A dedicated fire safety panel shall activate alarms, initiate suppression sequences, trigger emergency shutdown, and interface with the SCADA system. The Bidder’s fire protection solution shall align with the fire safety strategy and risk assessment [D.8] and dovetail with the site-wide fire safety strategy, in coordination with the local fire and rescue service. The Contractor shall design, supply, and construct all required fire walls, containment, and other mitigations arising from its risk assessments. Fire suppression systems shall be mandatory in all battery enclosures. Each enclosure shall be fitted with either an aerosol or gaseous fire suppression system; one of the two technologies shall always be implemented. If gaseous system is adopted, the Bidder shall justify its effectiveness and duration of action; suppression agents must be non-ozone depleting, eco-friendly, safe, and freely available in Poland without licensing. The Bidder shall supply and install suitably-rated fire alarm cables, fire panels, and a suitable number of portable fire extinguishers located in strategic, well-marked positions. Battery enclosures shall be equipped with gas, temperature, and humidity sensors, integrated with the SCADA system for continuous monitoring. Ventilation systems shall be designed to maintain flammable gas concentrations below 25% of the Lower Explosive Limit (LEL). A dedicated fire safety panel shall be provided to activate alarms, initiate suppression sequences, trigger emergency shutdown, and interface with the SCADA system. A gas alarm shall be triggered when concentrations reach 25% of the LEL, with local and remote alarms via SCADA. For aerosol fire suppression systems, each unit shall be fitted with an external LED indicator confirming discharge activation. The Bidder shall provide updated A3-format site plans and fire intervention plans for the fire services. | F24: * | G24: Bidder to provide details of its fire detection and protection solution. If not compliant with these requirements, Bidder to record deviations/limitations of its proposed solution to meet these requirements. | H24: To be included in the technical offer
B25: B.6 | C25: Battery enclosures | E25: The batteries shall be housed in suitable non-walk-in, IP55 or better rated, ISO containers, equipped with integrated overpressure vents. The colour of the containers/enclosures shall be adaptable to comply with the Planning Permission and it shall be possible to attach a logo to the sides if required. If gaseous fire suppression systems are proposed, the Bidder shall be responsible for providing any appropriate testing of the enclosures as may be required by the fire suppression system OEM (e.g. room integrity tests, etc.). The Bidder shall provide the civil works, foundations, and earthing for the battery enclosures. The Bidder shall be responsible for designing the foundations and earthing system, and for the offloading and installation of the equipment on site, including provision of cranes or other lifting equipment. Battery enclosures shall be equipped with blast panels, motorised louvres, and explosion-proof fans, designed in compliance with ATEX requirements. The Bidder shall provide a detailed site layout showing the arrangement of HV Substation and all battery containers. The Bidder shall supply all bespoke or non-standard bracketry or fixings where required to fasten its equipment to the provided foundations. The Bidder shall install clear signage and container identification plates. | F25: * | G25: Bidder to provide details of its battery enclosure solution. If not compliant with these requirements, Bidder to record deviations/limitations of its proposed solution to meet these requirements. | H25: Details of the battery enclosure solution
B26: B.7 | C26: BESS Layout and distances | E26: The Bidder shall provide a detailed site layout showing the proposed arrangement of the HV substation, battery containers/enclosures, PCS units, transformers, switchgear, access roads, fire brigade access routes and all associated equipment. The layout shall be designed in accordance with applicable Polish laws and regulations, the building permit, environmental decision, fire safety requirements, PSP requirements, Grid Connection Conditions, equipment manufacturer requirements and Good Industry Practice. | F26: * | G26: The Bidder shall provide a detailed site layout showing the proposed arrangement of all equipment, Bidder to record deviations/limitations of its proposed solution to meet these requirements. | H26: Detailed site layout showing the arrangement of the HV Substation, Battery Containers, PCS units, and associated equipment.
B27: B.8 | C27: Power Conversion System (PCS) | E27: The PCSs shall either be internal to the battery enclosure or be installed in a separate enclosure, with IP55 rating or better, either independently or as part of a shared skid arrangement with transformer and ring main unit. The PCS shall be suitably rated to meet the combined BESS active and reactive power requirements at the POC as well as DC and AC operating voltage ranges, considering system losses and auxiliary load requirements, see [C.3]. The PCS shall have sufficient reactive power capability, fault ride through capability, and any other capability needed to meet the Grid Connection Agreement and the EU Regulation (EU) 2016/631 (RfG) requirements for the site, as well as any specific requirements described in the Grid Connection Agreement and the EU Regulation (EU) 2016/631 (RfG) as described in [C.2]. The PCSs shall have a suitable response time and power conditioning capability to meet the response time and accuracy requirements as described in [C.9 & B.18]. The PCS shall be suitably specified to avoid any temperature-driven power limitation across the ambient temperature range for the site. The PCS shall be equipped with suitable DC protection. If the PCSs are not connected directly to their respective transformers with enclosed bus bars (e.g. if they are not skid-mounted together with transformers), then the design shall carefully consider the protection of the LV cables between the PCSs and the transformers, including earth fault and partial short circuit detection as well as the potential for induced currents into the earthing system. As detailed further in [C.1], the Employer is considering optionality to provide Restoration (black start) services and the Bidder shall consider this optional functionality when specifying the PCS and shall outline what functionality is available as part of its bid. The Bidder shall provide the civil works, foundations, and earthing for the PCS, transformers, and RMUs. The Bidder shall be responsible for designing the foundations and earthing system and for the installation of the equipment on site, including provision of cranes or other lifting equipment. | F27: * | G27: Bidder to provide details of its proposed PCS solution. If not compliant with these requirements, Bidder to record deviations/limitations of its proposed solution to meet these requirements. | H27: Datasheet of the PCS
B28: B.9 | C28: Feeder transformer (LV to 33 kV ) | E28: The Bidder shall supply the MV feeder transformer(s) for the BESS to step-up voltage from the PCS LV AC voltage to 33 kV, in accordance with PN-EN 61936-1 and EN/IEC 60076 standards. The MV feeder transformer(s) shall either be part of the packaged PCS solution under [B.8] above (i.e., if a skid solution is supplied) or will be a separate pad-mount transformer. The Bidder shall provide details of the proposed PCS/transformer/RMU solution – i.e., whether a skid solution is supplied or a pad-mount solution is supplied. The transformer shall be suitably rated to meet the combined BESS active and reactive power requirements for that circuit, including any associated ancillary loads. Only oil-immersed transformers shall be used, complying with EN 50588-1 / Ecodesign Regulation (EU) 548/2014 as amended by (EU) 2019/1783 (eco-design requirements for power transformers). The Bidder shall additionally design and supply suitable bunding and rainwater drainage with oil filters/traps as required. The MV switchgear associated with the transformer(s), including circuit breakers, shall be withdrawable and motor-operated. The Bidder shall provide the civil works, foundations, and earthing for the transformers, and shall be responsible for designing the foundations and earthing system, as well as for the installation of the equipment on site, including provision of cranes or other lifting equipment. Where oil-filled transformers are selected and where site layout and risk assessments dictate, the Bidder shall additionally design and install any required fire or explosion containment systems, in compliance with Polish regulations (PN-EN 61936-1). Purely for the purposes of its bid, pending detailed design, the Bidder shall assume that the transformer is part of a skidded solution with the PCS, and therefore its foundation, earthing, containment, and installation requirements are already covered as provisionally outlined in item [B.8]. | F28: * | G28: Bidder to provide details of its proposed transformer solution. If not compliant with these requirements, Bidder to record deviations/limitations of its proposed solution to meet these requirements. | H28: Details of the proposed PCS/transformer/RMU solution
B29: B10 | C29: Energy Management System (EMS), and SCADA | E29: The Bidder shall supply, install, and commission a energy management system (EMS) Power Plant Controler (PPC) for the BESS project. The PPC will be housed in the Control Room [B.14]. The BESS control system shall include a PPC and SCADA with the following functionalities: - Independently control BESS, meeting response time and accuracy for specified services [C.1], addressing latency and loss compensation between AC LV PCS and 220 kV POC. - Optimize battery charge/discharge, monitor conditions, and trigger alarms for critical parameters or equipment unavailability. - Monitor and record parameters, including module/cell temperature, current, voltage, power, energy, frequency, and battery SOH, as required for warranties. - Automatically manage SoC to minimize differential across PCS-connected batteries and recalibrate SoC measurements. - Maintain stable SoC during 0 MW setpoints by compensating for auxiliary consumption from primary or PCS internal systems, ensuring that the SoC does not fall due to auxiliary consumption. - Deliver grid-specified services [C.1], including frequency response, and collaborate with RtM providers for dispatch. - Store operational data locally for at least 2 months with cloud back-up of historical data. - Ensure PPC and SCADA achieve [99.9%] availability via hardware and software redundancies. - Specify manual balancing requirements, frequency, and duration based on operational experience. - Monitor and calibrate SoC at all levels, providing details on measurement and balancing methodologies, and report average SoC measurement accuracy at specified levels (e.g., 20%, 50%, 90%). The Bidder shall provide an integrated SCADA system for monitoring and controlling all BESS equipment, including tracking live and historic component conditions. This system shall be designed as a single cohesive SCADA architecture for the site and supply the necessary hardware (e.g., switches, routers, RTUs). The SCADA system shall enable remote monitoring and resetting of circuit breakers. The Bidder shall deliver all necessary signals and data for protection, control, and metering. The Bidder shall supply, install, and terminate all communication cabling to the signals panel in the LV Control Room, and provide LV power supplies, including back-up, to power the PPC and SCADA. The Bidder shall also connect all CTs and VTs for 33 kV power and frequency metering. The Bidder shall design and supply hardware and software to provide operational metering, fault recording, and all requirements per the Connection Agreement, Grid Connection Agreement, and applicable Polish grid code requirements. The EMS/SCADA shall support the telecontrol interface, signal list and remote control functions required by the Operator and described in [B.1.b], including the five (5) second refresh rate and the local duplication of all remotely controlled functions. Bidder will propose advanced PPC functionalities that could enhance system performance and operational efficiency. These may include, but are not limited to: - State of Charge recalibration and balancing through controlled energy transfer between PCS-connected battery groups, to minimise SoC differentials and maximise usable capacity. - Dynamic disconnection of PCS units at low setpoints, ensuring that operating PCS units function at their optimal efficiency range rather than all operating at partial load. - Round Trip Efficiency optimisation, whereby charge/discharge strategies are adapted to the actual performance and efficiency curves of the PCS and battery modules, maximising overall system efficiency. The Bidder shall describe in detail which advanced functionalities are proposed, the methods by which they will be achieved, and any limitations or prerequisites. | F29: * | G29: Bidder to provide details of its proposed control and monitoring solution (incl. EMS, SCADA). The Contractor shall provide evidence that the proposed PPC platform has been successfully commissioned and passed equivalent compliance tests on at least [2] reference installations of similar capacity connected to the same Network Operator, or to a TSO with equivalent technical requirements. Reference installation details shall include: site name/location, capacity (MW/MWh), connection voltage level, date of MSI, and confirmation of successful compliance test completion The SCADA Architecture list must be provided at tender stage If not compliant with these requirements, Bidder to record deviations/limitations of its proposed solution to meet these requirements. | H29: To be included in the technical offer
B30: B.10.bis | C30: HV Substation - SCADA/RTU | E30: The Bidder shall design, supply, configure, and commission the HV substation SCADA/RTU. The system shall supervise all HV substation equipment, including 220 kV bays, grid transformers and auxiliaries, 33 kV switchgear, protection relays, and metering. The Bidder shall carry out SCADA engineering, database configuration, FAT and SAT, and deliver all documentation required by PSE. The system shall provide secure communication with the EMS/BESS SCADA and with PSE, in accordance with PSE requirements. The Bidder shall provide agreed datasets (measurements, alarms, events, and statuses) from the EMS/BESS SCADA to the HV substation SCADA/RTU, and shall support testing and point-to-point validation. Cybersecurity shall follow IEC 62443, with segregated networks for protection, control, and monitoring. TSO grid connection conditions (PSE, July 2024): the Bidder shall design, supply, install, test and commission two (2) sets of teleprotection systems, one at each end of the 220 kV line connecting the Storage Facility bay to the busbar bridge, on the basis of design documentation agreed with the Operator, the list of transmitted signals being subject to the Operator's agreement. The protection relays installed in the User's 220 kV switchgear shall be of the same manufacturer as, and compatible with (including software), the devices installed in the PSE substation, and shall be on the Operator's list of devices approved for use in the KSE The Bidder shall refer to the full TSO grid connection conditions for the complete set of requirements and shall comply with them in their entirety. | F30: * | G30: If not compliant with these requirements, Bidder to record deviations/limitations of its proposed solution to meet these requirements. | H30: N/A
B31: B.11 | C31: 33 kV switchrooms (inside BESS compound) | E31: The Bidder shall construct and fit-out the 33 kV switchrooms for the project, including all civil works, house electricals, SCADA-linked smoke and fire detection/alarm and LV supplies. The switchrooms shall house the project 33 kV switchgear, 33 kV protection panels and associated auxiliaries (e.g. 110V battery chargers etc). The wider 33 kV configuration (and it's interfaces with the 220KV design as discussed in ) shall be for the Bidder to propose and subsequently optimise along with the final number of switchgear equipment and panels required. The switchroom building structures shall provide a suitable temperature and humidity environment for the safe operation of the equipment housed (using HVAC and insulation). The switchgear shall be designed with provision for future extension bays to allow cost-efficient capacity augmentation and additional feeders without major disruption to existing works. The 33 kV configuration and protection philosophy shall also ensure operational flexibility, such that in the event of the outage of one HV transformer(220/33 KV), the Project loads may be transferred and supplied via the remaining transformer (subject to its capacity). | F31: * | G31: If not compliant with these requirements, Bidder to record deviations/limitations of its proposed solution to meet these requirements. | H31: N/A
B32: B.12.a | C32: HV substation - Grid transformers (220/33 kV) | E32: The bidder shall supply the HV substation grid transformer for the project 220/33 kV. The following summarizes the main technical specifications : General Characteristics • Type: Power Transformer, Oil-immersed step-up, outdoor installation. • Application: Grid Transformer for a BESS (Battery Energy Storage System) site. • Design Standard: Full compliance with IEC 60076 & Polish Transmission Grid Code (IRiESP) • Rated Power: 75 MVA • Voltage Ratio: 220/33 kV • Frequency: 50 Hz. • Vector Group: YNd11 (HV star with neutral, LV delta). • Efficiency: Must meet ECO Tier II Peak Efficiency Index | Regulation (EU) 548/2014 as amended by (EU) 2019/1783, Tier 2 • Service Life: Minimum 40 years. Cooling & Insulation • Cooling Type: dual ONAN/ONAF rating with ONAN operation at 0.75 × Sr within IEC 60076-2 temperature rises o Insulating Oil: Mineral oil per IEC 60296 (uninhibited or inhibited) • Bushing: HV bushings Key Components • On-Load Tap Changer (OLTC): *Vacuum type per IEC 60214-1 with 21 positions . o Minimum 300,000 operations before maintenance. o Ester-compatible with a global service network. • MV Connection: Overhead MV connection via gantry o Protection: IP54 (min). o Terminals: Palm/bolted with copper bars. • Instrument Transformer: Tank-Earth CT per IEC 61869-2. TSO grid connection conditions (PSE, July 2024): the 220 kV upper voltage winding of the grid transformer shall be suitable for operation with both an earthed and an isolated neutral point on the high voltage side; the 220 kV network operates with an earthed neutral point. The neutral point operating requirements will be confirmed by the Operator's protection department at the stage of agreement of the EAZ setting cards.The Bidder shall refer to the full TSO grid connection conditions for the complete set of requirements and shall comply with them in their entirety. | F32: * | G32: If not compliant with these requirements, Bidder to record deviations/limitations of its proposed solution to meet these requirements. | H32: N/A
... B34: B.12.c | C34: HV substation - Grid transformers (220/33 kV) - Accessories and testing | E34: The bidder shall test all Equipments of the HV substation grid transformer and ensure compliance with PSE (TSO) specifications. All testing shall be conducted following the IEC 60076, The bidder shall whitness all testing (FAT & SAT). • Inrush Current: Voltage dips must remain within acceptable limits at the connection point. • FAT/SAT: Supporting and assisting with Factory Acceptance Testing and Site Acceptance Testing per IEC 60076, including full quality documentation review. • Spare Parts: Guaranteed availability for at least 10 years from the date of commissioning. The FAT shall last at least two (2) days with the transformer fully assembled and wired; the complete factory test programme shall be issued to the Owner at least two (2) months before the tests. Tests shall include, as a minimum: routine tests per IEC 60076 at minimum, nominal and maximum tap positions, OLTC tests, insulating liquid tests, bushing CT tests, pressure withstand test, SFRA per IEC 60076-18 (repeated on site after erection and oil filling), noise level per IEC 60076-10, initial and post-filling DGA, FDS, partial discharge measurement, thermal test per IEC 60076-2 in ONAN and ONAF, calibration of the Buchholz relay and of the oil and winding temperature indicators. Test reports shall state acceptance criteria, guaranteed values and measured values. | F34: * | G34: If not compliant with these requirements, Bidder to record deviations/limitations of its proposed solution to meet these requirements. | H34: N/A
B35: B.12.d | C35: HV substation - transformer delivery, erection and warranty milestones | E35: For the HV/MV grid transformer, delivery to site, complete erection, oil filling, on-site testing and availability for connection shall be achieved no later than the beginning of February 2028, in accordance with the schedule approved by the Employer. The transformer and its accessories shall be guaranteed for 24 months after commissioning and at the latest 30 months after delivery, with warranty extension to 10 years and to 15 years priced as options. Transformer spare parts shall be priced separately and per unit (neutral connection terminal, MV phase bushing, complete set of gaskets, OLTC motor, OLTC electronic control board, Buchholz relay, oil level indicator, cooling fan assembly, PT100 sensor, HV bushings). Oil filling shall reach a particle class equal to or better than ISO 4406 15/12/9 and all post-erection checks of the Employer's transformer specification shall be carried out.
B36: B.13 | C36: HV substation - 220/33 kV compound | E36: The Bidder shall procure, construct and fit out the Employer's HV substation compound(s) to house the 220 kV equipment. This will include the 220 kV transformers and all supporting 220 kV balance of plant such as earthing transformers, CTs, VTs, switchgear and associated support structures, bus bars, cabling, foundations, fencing, cable trenching, bunding and drainage. This will also include responsibility for specifying, designing, constructing and commissioning all civil and mechanical, electrical and plumbing (MEP) elements associated with the 220 kV compound(s). The Bidder is expected to configure/optimise the number, design and layout of the 220 kV transformers and other 220 kV equipment. The layout submitted for planning purposes and attached to this ITT assumes this 220 kV compound. | F36: * | G36: If not compliant with these requirements, Bidder to record deviations/limitations of its proposed solution to meet these requirements. | H36: N/A
